BEGIN:VCALENDAR
VERSION:2.0
PRODID:-//KSTK - ECPv6.15.20//NONSGML v1.0//EN
CALSCALE:GREGORIAN
METHOD:PUBLISH
X-WR-CALNAME:KSTK
X-ORIGINAL-URL:https://www.kstk.org
X-WR-CALDESC:Events for KSTK
REFRESH-INTERVAL;VALUE=DURATION:PT1H
X-Robots-Tag:noindex
X-PUBLISHED-TTL:PT1H
BEGIN:VTIMEZONE
TZID:America/Anchorage
BEGIN:DAYLIGHT
TZOFFSETFROM:-0900
TZOFFSETTO:-0800
TZNAME:AKDT
DTSTART:20110313T110000
END:DAYLIGHT
BEGIN:STANDARD
TZOFFSETFROM:-0800
TZOFFSETTO:-0900
TZNAME:AKST
DTSTART:20111106T100000
END:STANDARD
BEGIN:DAYLIGHT
TZOFFSETFROM:-0900
TZOFFSETTO:-0800
TZNAME:AKDT
DTSTART:20120311T110000
END:DAYLIGHT
BEGIN:STANDARD
TZOFFSETFROM:-0800
TZOFFSETTO:-0900
TZNAME:AKST
DTSTART:20121104T100000
END:STANDARD
BEGIN:DAYLIGHT
TZOFFSETFROM:-0900
TZOFFSETTO:-0800
TZNAME:AKDT
DTSTART:20130310T110000
END:DAYLIGHT
BEGIN:STANDARD
TZOFFSETFROM:-0800
TZOFFSETTO:-0900
TZNAME:AKST
DTSTART:20131103T100000
END:STANDARD
END:VTIMEZONE
BEGIN:VEVENT
DTSTART;TZID=America/Anchorage:20121128T173000
DTEND;TZID=America/Anchorage:20121128T190000
DTSTAMP:20260424T023807
CREATED:20121124T024949Z
LAST-MODIFIED:20121124T024949Z
UID:5415-1354123800-1354129200@www.kstk.org
SUMMARY:Hospital Board Meeting
DESCRIPTION:Regular Board Meeting and Executive Session
URL:https://www.kstk.org/event/hospital-board-meeting/
LOCATION:Nolan Center\, Small Classroom
CATEGORIES:Hospital Board
END:VEVENT
END:VCALENDAR